BEGIN:VCALENDAR
VERSION:2.0
PRODID:-//InStaff und Jobs GmbH
BEGIN:VEVENT
UID:8e6894f8ab084551f612126e9027b7ec@instaff.jobs
DTSTAMP:20260425T123254Z
LOCATION:CinemaxX Würzburg\, Veitshöchheimer Str\. 5A\, 97080 Würzburg
DTSTART;TZID=Europe/Brussels:20260204T070000Z
DTEND;TZID=Europe/Brussels:20260204T160000Z
SUMMARY:AZUBISPOT Würzburg 2026
DESCRIPTION:https://www.google.com/maps/search/?api=1&query=CinemaxX+Würzburg%2C+Veitshöchheimer+Str.+5A%2C+97080+Würzburg
END:VEVENT
BEGIN:VEVENT
UID:e18ee41bb81bcf1c31e4c85169ab3b05@instaff.jobs
DTSTAMP:20260425T123254Z
LOCATION:tectake ARENA\, Stettiner Str\. 1\, 97072 Würzburg
DTSTART;TZID=Europe/Brussels:20260505T070000Z
DTEND;TZID=Europe/Brussels:20260506T160000Z
SUMMARY:vocatium Würzburg/Schweinfurt 2026
DESCRIPTION:https://www.google.com/maps/search/?api=1&query=tectake+ARENA%2C+Stettiner+Str.+1%2C+97072+Würzburg
END:VEVENT
END:VCALENDAR