BEGIN:VCALENDAR
VERSION:2.0
PRODID:-//InStaff und Jobs GmbH
BEGIN:VEVENT
UID:1edc9fafe850fc2c96bbdaacf7e5b8e1@instaff.jobs
DTSTAMP:20260424T162157Z
LOCATION:ECC Berlin \(Estrel Congress Center\)\, Ziegrastraße 225\, 12057 Berlin
DTSTART;TZID=Europe/Brussels:20270223T070000Z
DTEND;TZID=Europe/Brussels:20270225T160000Z
SUMMARY:CCW 2027
DESCRIPTION:https://www.google.com/maps/search/?api=1&query=ECC+Berlin+(Estrel+Congress+Center)%2C+Ziegrastraße+225%2C+12057+Berlin
END:VEVENT
END:VCALENDAR