BEGIN:VCALENDAR
VERSION:2.0
PRODID:-//InStaff und Jobs GmbH
BEGIN:VEVENT
UID:cad6536916a2168d6c5d4db557709d16@instaff.jobs
DTSTAMP:20260424T162211Z
LOCATION:Flughafen Tempelhof\, Platz der Luftbrücke 5\, 12101 Berlin
DTSTART;TZID=Europe/Brussels:20270410T070000Z
DTEND;TZID=Europe/Brussels:20270411T160000Z
SUMMARY:VELOBerlin 2027
DESCRIPTION:https://www.google.com/maps/search/?api=1&query=Flughafen+Tempelhof%2C+Platz+der+Luftbrücke+5%2C+12101+Berlin
END:VEVENT
END:VCALENDAR