BEGIN:VCALENDAR
VERSION:2.0
PRODID:-//InStaff und Jobs GmbH
BEGIN:VEVENT
UID:7852b44f4de09ee7108a8ef7fb508af3@instaff.jobs
DTSTAMP:20260424T162307Z
LOCATION:AMERON Hamburg Hotel Speicherstadt\, Am Sandtorkai 4\, 20457 Hamburg
DTSTART;TZID=Europe/Brussels:20270126T070000Z
DTEND;TZID=Europe/Brussels:20270127T160000Z
SUMMARY:MAIK Update 2027
DESCRIPTION:https://www.google.com/maps/search/?api=1&query=AMERON+Hamburg+Hotel+Speicherstadt%2C+Am+Sandtorkai+4%2C+20457+Hamburg
END:VEVENT
END:VCALENDAR