BEGIN:VCALENDAR
VERSION:2.0
PRODID:-//InStaff und Jobs GmbH
BEGIN:VEVENT
UID:1d080518de3aece2eaa3422db3543470@instaff.jobs
DTSTAMP:20260423T024542Z
LOCATION:Deutsche Messe\, Messegelände\, 30521 Hannover
DTSTART;TZID=Europe/Brussels:20270223T070000Z
DTEND;TZID=Europe/Brussels:20270227T160000Z
SUMMARY:didacta 2027
DESCRIPTION:https://www.google.com/maps/search/?api=1&query=Deutsche+Messe%2C+Messegelände%2C+30521+Hannover
END:VEVENT
END:VCALENDAR