BEGIN:VCALENDAR
VERSION:2.0
PRODID:-//InStaff und Jobs GmbH
BEGIN:VEVENT
UID:efde02bcd597e505e074bb9b5828ea16@instaff.jobs
DTSTAMP:20260424T163441Z
LOCATION:Messegelände Hannover\, Hermesallee\, 30521 Hannover
DTSTART;TZID=Europe/Brussels:20270510T070000Z
DTEND;TZID=Europe/Brussels:20270514T160000Z
SUMMARY:LIGNA 2027
DESCRIPTION:https://www.google.com/maps/search/?api=1&query=Messegelände+Hannover%2C+Hermesallee%2C+30521+Hannover
END:VEVENT
END:VCALENDAR