BEGIN:VCALENDAR
VERSION:2.0
PRODID:-//InStaff und Jobs GmbH
BEGIN:VEVENT
UID:a03da2f4f67fd9f528f872739950ff0f@instaff.jobs
DTSTAMP:20260424T162307Z
LOCATION:Hannover Congress Centrum\, Theodor-Heuss-Platz 1-3\, 30175 Hannover
DTSTART;TZID=Europe/Brussels:20270310T070000Z
DTEND;TZID=Europe/Brussels:20270311T160000Z
SUMMARY:secIT by heise 2027
DESCRIPTION:https://www.google.com/maps/search/?api=1&query=Hannover+Congress+Centrum%2C+Theodor-Heuss-Platz+1-3%2C+30175+Hannover
END:VEVENT
END:VCALENDAR