BEGIN:VCALENDAR
VERSION:2.0
PRODID:-//InStaff und Jobs GmbH
BEGIN:VEVENT
UID:a5b3c6a4bf2aa20e6078980d7f912c25@instaff.jobs
DTSTAMP:20260424T162527Z
LOCATION:Messe Karlsruhe\, Messeallee 1\, 76287 Rheinstetten
DTSTART;TZID=Europe/Brussels:20270218T070000Z
DTEND;TZID=Europe/Brussels:20270221T160000Z
SUMMARY:art Karlsruhe 2027
DESCRIPTION:https://www.google.com/maps/search/?api=1&query=Messe+Karlsruhe%2C+Messeallee+1%2C+76287+Rheinstetten
END:VEVENT
END:VCALENDAR