BEGIN:VCALENDAR
VERSION:2.0
PRODID:-//InStaff und Jobs GmbH
BEGIN:VEVENT
UID:ee9e1033a864c41c0abe15809434e1e2@instaff.jobs
DTSTAMP:20260424T164255Z
LOCATION:Messe Karlsruhe\, Messeallee 1\, 76287 Rheinstetten
DTSTART;TZID=Europe/Brussels:20270923T070000Z
DTEND;TZID=Europe/Brussels:20270926T160000Z
SUMMARY:NUFAM 2027
DESCRIPTION:https://www.google.com/maps/search/?api=1&query=Messe+Karlsruhe%2C+Messeallee+1%2C+76287+Rheinstetten
END:VEVENT
END:VCALENDAR