BEGIN:VCALENDAR
VERSION:2.0
PRODID:-//InStaff und Jobs GmbH
BEGIN:VEVENT
UID:efd1b7b0d2cf88b1b8fccc5aa4b89aa9@instaff.jobs
DTSTAMP:20260424T164013Z
LOCATION:Messe Karlsruhe\, Messeallee 1\, 76287 Rheinstetten
DTSTART;TZID=Europe/Brussels:20270603T070000Z
DTEND;TZID=Europe/Brussels:20270605T160000Z
SUMMARY:RecyclingAKTIV & TiefbauLIVE (RATL) 2027
DESCRIPTION:https://www.google.com/maps/search/?api=1&query=Messe+Karlsruhe%2C+Messeallee+1%2C+76287+Rheinstetten
END:VEVENT
END:VCALENDAR