BEGIN:VCALENDAR
VERSION:2.0
PRODID:-//InStaff und Jobs GmbH
BEGIN:VEVENT
UID:398d4efcad213eaf91773b14faf02013@instaff.jobs
DTSTAMP:20260424T164150Z
LOCATION:Koelnmesse\, Messepl\. 1\, 50679 Köln
DTSTART;TZID=Europe/Brussels:20270223T070000Z
DTEND;TZID=Europe/Brussels:20270226T160000Z
SUMMARY:Anuga FoodTec 2027
DESCRIPTION:https://www.google.com/maps/search/?api=1&query=Koelnmesse%2C+Messepl.+1%2C+50679+Köln
END:VEVENT
END:VCALENDAR