BEGIN:VCALENDAR
VERSION:2.0
PRODID:-//InStaff und Jobs GmbH
BEGIN:VEVENT
UID:3bd493f691f45c6e0f36179a1fd42e46@instaff.jobs
DTSTAMP:20260424T163856Z
LOCATION:Köln Messe\, Messeplatz 1\, 50679 Köln
DTSTART;TZID=Europe/Brussels:20270316T070000Z
DTEND;TZID=Europe/Brussels:20270320T160000Z
SUMMARY:IDS Internationale Dental-Schau 2027
DESCRIPTION:https://www.google.com/maps/search/?api=1&query=Köln+Messe%2C+Messeplatz+1%2C+50679+Köln
END:VEVENT
END:VCALENDAR