BEGIN:VCALENDAR
VERSION:2.0
PRODID:-//InStaff und Jobs GmbH
BEGIN:VEVENT
UID:398997f95ec1e6d191a54296de0ba1ff@instaff.jobs
DTSTAMP:20260424T162401Z
LOCATION:Leipziger Messe\, Messe-Allee 1\, 04356 Leipzig
DTSTART;TZID=Europe/Brussels:20270206T070000Z
DTEND;TZID=Europe/Brussels:20270214T160000Z
SUMMARY:HANDWERK live 2027
DESCRIPTION:https://www.google.com/maps/search/?api=1&query=Leipziger+Messe%2C+Messe-Allee+1%2C+04356+Leipzig
END:VEVENT
END:VCALENDAR