BEGIN:VCALENDAR
VERSION:2.0
PRODID:-//InStaff und Jobs GmbH
BEGIN:VEVENT
UID:1aaee85b7888dcede2db92cef6b6b7a9@instaff.jobs
DTSTAMP:20260424T162235Z
LOCATION:Leipziger Messe\, Messe-Allee 1\, 04356 Leipzig
DTSTART;TZID=Europe/Brussels:20270206T070000Z
DTEND;TZID=Europe/Brussels:20270214T160000Z
SUMMARY:HAUS-GARTEN-FREIZEIT 2027
DESCRIPTION:https://www.google.com/maps/search/?api=1&query=Leipziger+Messe%2C+Messe-Allee+1%2C+04356+Leipzig
END:VEVENT
END:VCALENDAR