BEGIN:VCALENDAR
VERSION:2.0
PRODID:-//InStaff und Jobs GmbH
BEGIN:VEVENT
UID:48aefe0685353ccda4e859feeee45d70@instaff.jobs
DTSTAMP:20260424T155501Z
LOCATION:Leipziger Messe\, Messe-Allee 1\, 04356 Leipzig
DTSTART;TZID=Europe/Brussels:20270318T070000Z
DTEND;TZID=Europe/Brussels:20270321T160000Z
SUMMARY:Leipziger Buchmesse 2027
DESCRIPTION:https://www.google.com/maps/search/?api=1&query=Leipziger+Messe%2C+Messe-Allee+1%2C+04356+Leipzig
END:VEVENT
END:VCALENDAR