BEGIN:VCALENDAR
VERSION:2.0
PRODID:-//InStaff und Jobs GmbH
BEGIN:VEVENT
UID:2a7e2eda5a9425e942ecaeff99f5c327@instaff.jobs
DTSTAMP:20260424T163528Z
LOCATION:Messe München\, Messegelände\, 81823 München
DTSTART;TZID=Europe/Brussels:20270111T070000Z
DTEND;TZID=Europe/Brussels:20270115T160000Z
SUMMARY:Bau 2027
DESCRIPTION:https://www.google.com/maps/search/?api=1&query=Messe+München%2C+Messegelände%2C+81823+München
END:VEVENT
END:VCALENDAR