BEGIN:VCALENDAR
VERSION:2.0
PRODID:-//InStaff und Jobs GmbH
BEGIN:VEVENT
UID:a575e2c77ca3ffbe26a6775449f87460@instaff.jobs
DTSTAMP:20260424T181916Z
LOCATION:Nürnberg Messe\, Messezentrum 1\, 90471 Nürnberg
DTSTART;TZID=Europe/Brussels:20270420T070000Z
DTEND;TZID=Europe/Brussels:20270422T160000Z
SUMMARY:European Coatings Show 2027
DESCRIPTION:https://www.google.com/maps/search/?api=1&query=Nürnberg+Messe%2C+Messezentrum+1%2C+90471+Nürnberg
END:VEVENT
END:VCALENDAR