BEGIN:VCALENDAR
VERSION:2.0
PRODID:-//InStaff und Jobs GmbH
BEGIN:VEVENT
UID:0b9ac596e737a3cbf31f209855670a05@instaff.jobs
DTSTAMP:20260424T163005Z
LOCATION:Messe Stuttgart\, Messepiazza 1\, 70629 Stuttgart
DTSTART;TZID=Europe/Brussels:20270427T070000Z
DTEND;TZID=Europe/Brussels:20270429T160000Z
SUMMARY:EMV 2027
DESCRIPTION:https://www.google.com/maps/search/?api=1&query=Messe+Stuttgart%2C+Messepiazza+1%2C+70629+Stuttgart
END:VEVENT
END:VCALENDAR