BEGIN:VCALENDAR
VERSION:2.0
PRODID:-//InStaff und Jobs GmbH
BEGIN:VEVENT
UID:2826ccfccf3b0f93f0aea803c12f6d40@instaff.jobs
DTSTAMP:20260425T103352Z
LOCATION:Messe Stuttgart\, Messepiazza 1\, 70629 Stuttgart
DTSTART;TZID=Europe/Brussels:20270129T070000Z
DTEND;TZID=Europe/Brussels:20270131T160000Z
SUMMARY:TheraPro 2027
DESCRIPTION:https://www.google.com/maps/search/?api=1&query=Messe+Stuttgart%2C+Messepiazza+1%2C+70629+Stuttgart
END:VEVENT
END:VCALENDAR