BEGIN:VCALENDAR
VERSION:2.0
PRODID:-//InStaff und Jobs GmbH
BEGIN:VEVENT
UID:0e17e9d04881dc40b74fdf81469c58f6@instaff.jobs
DTSTAMP:20260424T163351Z
LOCATION:Messe Stuttgart\, Messepiazza 1\, 70629 Stuttgart
DTSTART;TZID=Europe/Brussels:20270203T070000Z
DTEND;TZID=Europe/Brussels:20270205T160000Z
SUMMARY:wetec 2027
DESCRIPTION:https://www.google.com/maps/search/?api=1&query=Messe+Stuttgart%2C+Messepiazza+1%2C+70629+Stuttgart
END:VEVENT
END:VCALENDAR