BEGIN:VCALENDAR
VERSION:2.0
PRODID:-//InStaff und Jobs GmbH
BEGIN:VEVENT
UID:6b43694ff933785d021c774150a99fee@instaff.jobs
DTSTAMP:20260422T115122Z
LOCATION:Kesselhaus Schlachthof Wiesbaden\, Murnaustraße 1\, 65189 Wiesbaden
DTSTART;TZID=Europe/Brussels:20270115T070000Z
DTEND;TZID=Europe/Brussels:20270115T160000Z
SUMMARY:Rainbow-Career-Day Wiesbaden 2027
DESCRIPTION:https://www.google.com/maps/search/?api=1&query=Kesselhaus+Schlachthof+Wiesbaden%2C+Murnaustraße+1%2C+65189+Wiesbaden
END:VEVENT
END:VCALENDAR