BEGIN:VCALENDAR
VERSION:2.0
PRODID:-//InStaff und Jobs GmbH
BEGIN:VEVENT
UID:7981d928bc2c55dcc97eecaa37198040@instaff.jobs
DTSTAMP:20260423T043116Z
LOCATION:Koelnmesse\, Messepl\. 1\, 50679 Köln
DTSTART;TZID=Europe/Brussels:20280215T070000Z
DTEND;TZID=Europe/Brussels:20280219T160000Z
SUMMARY:didacta 2028
DESCRIPTION:https://www.google.com/maps/search/?api=1&query=Koelnmesse%2C+Messepl.+1%2C+50679+Köln
END:VEVENT
END:VCALENDAR