BEGIN:VCALENDAR
VERSION:2.0
PRODID:-//InStaff und Jobs GmbH
BEGIN:VEVENT
UID:98e1311f34fed4a58361411907726c0c@instaff.jobs
DTSTAMP:20260423T011031Z
LOCATION:Messe München\, Messegelände\, 81823 München
DTSTART;TZID=Europe/Brussels:20280425T070000Z
DTEND;TZID=Europe/Brussels:20280427T160000Z
SUMMARY:CERAMITEC 2028
DESCRIPTION:https://www.google.com/maps/search/?api=1&query=Messe+München%2C+Messegelände%2C+81823+München
END:VEVENT
END:VCALENDAR